BEGIN:VCALENDAR
VERSION:2.0
PRODID:-//Galoppers Ranch - ECPv6.15.20//NONSGML v1.0//EN
CALSCALE:GREGORIAN
METHOD:PUBLISH
X-WR-CALNAME:Galoppers Ranch
X-ORIGINAL-URL:https://galoppers-ranch.de
X-WR-CALDESC:Veranstaltungen für Galoppers Ranch
REFRESH-INTERVAL;VALUE=DURATION:PT1H
X-Robots-Tag:noindex
X-PUBLISHED-TTL:PT1H
BEGIN:VTIMEZONE
TZID:Europe/Berlin
BEGIN:DAYLIGHT
TZOFFSETFROM:+0100
TZOFFSETTO:+0200
TZNAME:CEST
DTSTART:20210328T010000
END:DAYLIGHT
BEGIN:STANDARD
TZOFFSETFROM:+0200
TZOFFSETTO:+0100
TZNAME:CET
DTSTART:20211031T010000
END:STANDARD
BEGIN:DAYLIGHT
TZOFFSETFROM:+0100
TZOFFSETTO:+0200
TZNAME:CEST
DTSTART:20220327T010000
END:DAYLIGHT
BEGIN:STANDARD
TZOFFSETFROM:+0200
TZOFFSETTO:+0100
TZNAME:CET
DTSTART:20221030T010000
END:STANDARD
BEGIN:DAYLIGHT
TZOFFSETFROM:+0100
TZOFFSETTO:+0200
TZNAME:CEST
DTSTART:20230326T010000
END:DAYLIGHT
BEGIN:STANDARD
TZOFFSETFROM:+0200
TZOFFSETTO:+0100
TZNAME:CET
DTSTART:20231029T010000
END:STANDARD
BEGIN:DAYLIGHT
TZOFFSETFROM:+0100
TZOFFSETTO:+0200
TZNAME:CEST
DTSTART:20240331T010000
END:DAYLIGHT
BEGIN:STANDARD
TZOFFSETFROM:+0200
TZOFFSETTO:+0100
TZNAME:CET
DTSTART:20241027T010000
END:STANDARD
BEGIN:DAYLIGHT
TZOFFSETFROM:+0100
TZOFFSETTO:+0200
TZNAME:CEST
DTSTART:20250330T010000
END:DAYLIGHT
BEGIN:STANDARD
TZOFFSETFROM:+0200
TZOFFSETTO:+0100
TZNAME:CET
DTSTART:20251026T010000
END:STANDARD
BEGIN:DAYLIGHT
TZOFFSETFROM:+0100
TZOFFSETTO:+0200
TZNAME:CEST
DTSTART:20260329T010000
END:DAYLIGHT
BEGIN:STANDARD
TZOFFSETFROM:+0200
TZOFFSETTO:+0100
TZNAME:CET
DTSTART:20261025T010000
END:STANDARD
END:VTIMEZONE
BEGIN:VEVENT
DTSTART;TZID=Europe/Berlin:20250806T080000
DTEND;TZID=Europe/Berlin:20250809T170000
DTSTAMP:20260423T115740
CREATED:20250101T085325Z
LAST-MODIFIED:20250404T145445Z
UID:1773-1754467200-1754758800@galoppers-ranch.de
SUMMARY:Reiterferien 6. - 9.August 2025
DESCRIPTION:Die Ferien werden von Jennifer Gehres und Anja Bartsch betreut.\n\n\n\nJeder Tag wird individuell gestaltet\, mit tollen Überraschungen für die Kinder. Der Schlafplatz befindet sich direkt neben den Schulpferden. \n\n\n\n Neben Putz-\, Mal- und anderen Wettbewerben\, werden die Kinder täglich zweimal reiten. \n\n\n\n \n\n\n\n\n\nAblauf der Reiterferien\n\n\n\nAnreise ist um 14 Uhr und beginnt mit dem Einrichten der SchlafplätzeAbreise ist dann am letzten Tag gegen 17 Uhr. \n\n\n\nAm Abreisetag findet eine Abschlussvorführung für die Eltern statt.Treffpunkt ist um 15 Uhr\, Ende der Aufführung ist ca. um 16:30. Danach wird unser Ferienlager abgebaut und die Abreise wird ca. um 17:00 Uhr sein. \n\n\n\nKosten\n\n\n\nDie Reiterferien kosten insgesamt pro Kind 400€. \n\n\n\nNach dem Eingang der Anmeldung\, ist eine Reservierungsgebühr von 150€ zu überweisen. Der Restbetrag von 250€ ist dann bei der Anreise (in bar) zu bezahlen.Bei Rücktritt (bis 4 Wochen vor dem Termin) wird die gezahlte Reservierungsgebühr von 150€ einbehalten. Wird die Teilnahme abgebrochen oder oder kurzfristig (innerhalb 4 Wochen vor Beginn) abgesagt\, wird der Gesamtpreis einbehalten. \n\n\n\nWenn Sie sich anmelden wollen oder weitere Informationen benötigen können Sie sich gerne bei Jennifer Gehres melden.Benutzen Sie gerne das Kontaktformular unten oder melden sich direkt bei Jennifer. \n\n\n\n\n\n\n\nNameEmail*Message*EmailSubmit\nBitte aktiviere JavaScript in deinem Browser\, um dieses Formular fertigzustellen.
URL:https://galoppers-ranch.de/event/reiterferien-6-9-august-2025
ORGANIZER;CN="Jennifer Schlachter":MAILTO:Gehres_Jennifer@web.de
END:VEVENT
BEGIN:VEVENT
DTSTART;TZID=Europe/Berlin:20250802T140000
DTEND;TZID=Europe/Berlin:20250805T170000
DTSTAMP:20260423T115740
CREATED:20250101T083526Z
LAST-MODIFIED:20250404T145128Z
UID:1759-1754143200-1754413200@galoppers-ranch.de
SUMMARY:Reiterferien 2. -  5.August 2025
DESCRIPTION:Die Ferien werden von Jennifer Gehres und Anja Bartsch betreut.\n\n\n\nJeder Tag wird individuell gestaltet\, mit tollen Überraschungen für die Kinder. Der Schlafplatz befindet sich direkt neben den Schulpferden. \n\n\n\n Neben Putz-\, Mal- und anderen Wettbewerben\, werden die Kinder täglich zweimal reiten. \n\n\n\n \n\n\n\n\n\nAblauf der Reiterferien\n\n\n\nAnreise ist um 14 Uhr und beginnt mit dem Einrichten der SchlafplätzeAbreise ist dann am letzten Tag gegen 17 Uhr. \n\n\n\nAm Abreisetag findet eine Abschlussvorführung für die Eltern statt.Treffpunkt ist um 15 Uhr\, Ende der Aufführung ist ca. um 16:30. Danach wird unser Ferienlager abgebaut und die Abreise wird ca. um 17:00 Uhr sein. \n\n\n\nKosten\n\n\n\nDie Reiterferien kosten insgesamt pro Kind 400€. \n\n\n\nNach dem Eingang der Anmeldung\, ist eine Reservierungsgebühr von 150€ zu überweisen. Der Restbetrag von 250€ ist dann bei der Anreise (in bar) zu bezahlen.Bei Rücktritt (bis 4 Wochen vor dem Termin) wird die gezahlte Reservierungsgebühr von 150€ einbehalten. Wird die Teilnahme abgebrochen oder kurzfristig (innerhalb 4 Wochen vor Beginn) abgesagt\, wird der Gesamtpreis einbehalten. \n\n\n\nWenn Sie sich anmelden wollen oder weitere Informationen benötigen können Sie sich gerne bei Jennifer Gehres melden.Benutzen Sie gerne das Kontaktformular unten oder melden sich direkt bei Jennifer. \n\n\n\n\n\nNameEmail*Message*EmailSubmit\nBitte aktiviere JavaScript in deinem Browser\, um dieses Formular fertigzustellen.
URL:https://galoppers-ranch.de/event/reiterferien-2-august-2025
ATTACH;FMTTYPE=image/jpeg:https://galoppers-ranch.de/wp-content/uploads/2022/09/8ue8_2ezk_220304-scaled.jpg
ORGANIZER;CN="Jennifer Schlachter":MAILTO:Gehres_Jennifer@web.de
END:VEVENT
BEGIN:VEVENT
DTSTART;TZID=Europe/Berlin:20240526T160000
DTEND;TZID=Europe/Berlin:20240529T190000
DTSTAMP:20260423T115740
CREATED:20240317T141115Z
LAST-MODIFIED:20240317T142125Z
UID:1737-1716739200-1717009200@galoppers-ranch.de
SUMMARY:Reiterferien Pfingsten 2024
DESCRIPTION:Diese Jahr finden wieder Reiterferien vom 26.05. – 29.05.2024 auf der Galoppers-Ranch statt.\n\n\n\n\n\n\n\n\n\n\n\nDie Ferien werden von Jennifer Gehres und Anja Bartsch betreut.\n\n\n\nJeder Tag wird ibdividuell gestaltet\, mit tollen Überraschungen für die Kinder. Direkt neben den Schulpferden\, schlafen wir in Wohnwägen. Neben Putz-\, Mal- und anderen Wettbewerben\, werden die Kinder täglich zweimal reiten. \n\n\n\n \n\n\n\n\n\n  \n\n\n\nAblauf der Reiterferien\n\n\n\nAnreise ist um 14 Uhr und beginnt mit dem Einrichten der SchlafplätzeAbreise ist dann am letzten Tag gegen 17 Uhr. \n\n\n\nAm Abreisetag findet eine Abschlussvorführung für die Eltern statt.Treffpunkt ist um 15 Uhr und Ende um 16:30. Danach wird unser Ferienlager abgebaut und die Abreise wird ca. um 17:00 Uhr sein. \n\n\n\nKosten\n\n\n\nDie Reiterferien kosten insgesamt pro Kind 400€. \n\n\n\nNach dem Eingang der Anmeldung\, ist eine Reservierungsgebühr von 150€  zu überweisen. Der Restbetrag von 250€ ist dann bei der Anreise (in bar) zu bezahlen.Bei Rücktritt wird die gezahlte Reservierungsgebühr von 150€ einbehalten. \n\n\n\nAnmeldung und weiter Informationen erhalten Sie bei Jennifer Gehres.Melden Sie sich gerne bei den angegebenen Kontaktdaten oder benutzen Sie das Kontaktformular für die Reiterferien. \n\n\n\n\n\nName*Email*Message*EmailAbsenden\nBitte aktiviere JavaScript in deinem Browser\, um dieses Formular fertigzustellen.
URL:https://galoppers-ranch.de/event/reiterferien-pfingsten-2024-auf-der-galoppers-ranch
ATTACH;FMTTYPE=image/jpeg:https://galoppers-ranch.de/wp-content/uploads/2022/09/8ue8_2ezk_220304-scaled.jpg
ORGANIZER;CN="Jennifer Schlachter":MAILTO:Gehres_Jennifer@web.de
END:VEVENT
BEGIN:VEVENT
DTSTART;TZID=Europe/Berlin:20221023T100000
DTEND;TZID=Europe/Berlin:20221023T190000
DTSTAMP:20260423T115740
CREATED:20220929T122208Z
LAST-MODIFIED:20221106T104902Z
UID:1515-1666519200-1666551600@galoppers-ranch.de
SUMMARY:Hofturnier
DESCRIPTION:Vielen Dank fürs Mitmachen.Wenn ihr sehen wollt\, wie es war? Schaut euch doch die Bilder in der Bildergalerie an\n\n\n\n \n\n\n\nReitturnier für alle die mitmachen wollen. \n\n\n\n\nMacht doch alle mit beim Hofturnier auf der Galoppers-Ranch \n\n\n\n \n\n\n\n \n\n\n\nBild von brgfx auf Freepik \n\n\n\n\n \n\n\n\nFalls Du Interesse hast mitzumachen melde dich bei:
URL:https://galoppers-ranch.de/event/hofturnier
LOCATION:Geschützt: Galoppers-Ranch\, Klingelstraße 33\, Buxheim\, 87740\, Deutschland
ORGANIZER;CN="Sandra Rue%C3%9F":MAILTO:Sandra_ruess@gmx.de
END:VEVENT
BEGIN:VEVENT
DTSTART;TZID=Europe/Berlin:20220801T020000
DTEND;TZID=Europe/Berlin:20220805T015959
DTSTAMP:20260423T115740
CREATED:20220612T123417Z
LAST-MODIFIED:20221004T151952Z
UID:1287-1659319200-1659664799@galoppers-ranch.de
SUMMARY:Reitferien
DESCRIPTION:Geplant sind voltigieren\, ein Indianerausritt\, Lagerfeuer\, Reitstunden und ein Abschlussturnier.Übernachtet wird in Wohnwägen hinter dem Schulpferdestall.
URL:https://galoppers-ranch.de/event/reitferien
LOCATION:Geschützt: Galoppers-Ranch\, Klingelstraße 33\, Buxheim\, 87740\, Deutschland
ORGANIZER;CN="Sandra Rue%C3%9F":MAILTO:Sandra_ruess@gmx.de
END:VEVENT
END:VCALENDAR